BEGIN:VCALENDAR
METHOD:PUBLISH
VERSION:2.0
CALSCALE:GREGORIAN
PRODID:-//NONSGML WPForms//NONSGML Sugar Calendar Feeds v3.11.0//EN
X-WR-CALNAME:Women’s Business Cafe: Mimosas and Motivation
X-WR-CALDESC:League of Women Voters - South Hampton Roads
X-WR-TIMEZONE:UTC
BEGIN:VTIMEZONE
TZID:UTC
BEGIN:STANDARD
TZOFFSETFROM:+0000
TZOFFSETTO:+0000
DTSTART:20250920T000000
TZNAME:UTC
END:STANDARD
END:VTIMEZONE
BEGIN:VTIMEZONE
TZID:America/New_York
BEGIN:STANDARD
TZOFFSETFROM:-0400
TZOFFSETTO:-0500
DTSTART:20251102T060000
TZNAME:EST
END:STANDARD
BEGIN:DAYLIGHT
TZOFFSETFROM:-0500
TZOFFSETTO:-0400
DTSTART:20260308T070000
TZNAME:EDT
END:DAYLIGHT
END:VTIMEZONE
BEGIN:VEVENT
SUMMARY:Women’s Business Cafe: Mimosas and Motivation
DESCRIPTION:Celebrate Women’s History Month!  Meet local women-owned 
 businesses\, network and learn how to jump-start your own business.  Re
 freshments and mocktails to be served.
URL;VALUE=URI:https://lwvshr.us/events/womens-business-cafe-mimosas-and-
 motivation/
UID:urn:uuid:a846e2d9-c045-4178-94a2-d8cab4518dff
STATUS:CONFIRMED
ORGANIZER:
DTSTAMP:20260422T104805Z
DTSTART;TZID=America/New_York:20260321T120000
DTEND;TZID=America/New_York:20260321T140000
LOCATION:1425 Norchester Ave
END:VEVENT
END:VCALENDAR