BEGIN:VCALENDAR
METHOD:PUBLISH
VERSION:2.0
CALSCALE:GREGORIAN
PRODID:-//NONSGML WPForms//NONSGML Sugar Calendar Feeds v3.11.0//EN
X-WR-CALNAME:Women's Basketball at ODU - (Joint Event with AAUW)
X-WR-CALDESC:League of Women Voters - South Hampton Roads
X-WR-TIMEZONE:UTC
BEGIN:VTIMEZONE
TZID:UTC
BEGIN:STANDARD
TZOFFSETFROM:+0000
TZOFFSETTO:+0000
DTSTART:20250802T010000
TZNAME:UTC
END:STANDARD
END:VTIMEZONE
BEGIN:VTIMEZONE
TZID:America/New_York
BEGIN:STANDARD
TZOFFSETFROM:-0400
TZOFFSETTO:-0500
DTSTART:20251102T060000
TZNAME:EST
END:STANDARD
END:VTIMEZONE
BEGIN:VEVENT
SUMMARY:Women's Basketball at ODU - (Joint Event with AAUW)
DESCRIPTION:In celebration of National Girls &amp\; Women in Sports Day\
 , AAUW of Virginia Beach has invited LWVSHR members to join them in atte
 nding an Old Dominion University Women's Basketball game! It's the ODU M
 onarchs versus Southern Miss Golden Eagles.\n\nWe may be meeting for lun
 ch at 11:30 am. Be sure to R.S.V.P. so we can get you the details.\n\nMo
 re details will be coming soon\, but if we get more than 15 attendees ou
 r tickets will be half price ($10). Yow! So please R.S.V.P.
URL;VALUE=URI:https://lwvshr.us/events/womens-basketball-at-odu-joint-ev
 ent-with-aauw/
UID:urn:uuid:117c5376-f6fb-4d2d-824b-86fc9f7992ba
STATUS:CONFIRMED
ORGANIZER:
DTSTAMP:20260424T091218Z
DTSTART;TZID=America/New_York:20260131T130000
DTEND;TZID=America/New_York:20260131T160000
LOCATION:4320 Hampton Blvd.
END:VEVENT
END:VCALENDAR