BEGIN:VCALENDAR
METHOD:PUBLISH
VERSION:2.0
CALSCALE:GREGORIAN
PRODID:-//NONSGML WPForms//NONSGML Sugar Calendar Feeds v3.11.0//EN
X-WR-CALNAME:Western-Tidewater-Unit-Online
X-WR-CALDESC:League of Women Voters - South Hampton Roads
X-WR-TIMEZONE:UTC
BEGIN:VTIMEZONE
TZID:UTC
BEGIN:STANDARD
TZOFFSETFROM:+0000
TZOFFSETTO:+0000
DTSTART:20251023T060000
TZNAME:UTC
END:STANDARD
END:VTIMEZONE
BEGIN:VTIMEZONE
TZID:America/New_York
BEGIN:STANDARD
TZOFFSETFROM:-0400
TZOFFSETTO:-0500
DTSTART:20251102T060000
TZNAME:EST
END:STANDARD
BEGIN:DAYLIGHT
TZOFFSETFROM:-0500
TZOFFSETTO:-0400
DTSTART:20260308T070000
TZNAME:EDT
END:DAYLIGHT
END:VTIMEZONE
BEGIN:VEVENT
SUMMARY:Western Tidewater Unit- Online
DESCRIPTION:Western Tidewater Unit (Zoom)\n\nFor link and to register\, 
 please email shrleague@gmail.com\, including the meeting date and time 
 in the subject field. 
URL;VALUE=URI:https://lwvshr.us/sc_recurring_event/western-tidewater-onl
 ine-2/
UID:urn:uuid:8a85c614-ca62-443d-9fa7-a106a4d1c7fc
STATUS:CONFIRMED
ORGANIZER:
DTSTAMP:20260420T143811Z
DTSTART;TZID=America/New_York:20260423T180000
DTEND;TZID=America/New_York:20260423T190000
RRULE:FREQ=MONTHLY;INTERVAL=1
END:VEVENT
END:VCALENDAR