BEGIN:VCALENDAR
METHOD:PUBLISH
VERSION:2.0
CALSCALE:GREGORIAN
PRODID:-//NONSGML WPForms//NONSGML Sugar Calendar Feeds v3.11.0//EN
X-WR-CALNAME:Voter Services Team Event
X-WR-CALDESC:League of Women Voters - South Hampton Roads
X-WR-TIMEZONE:UTC
BEGIN:VTIMEZONE
TZID:UTC
BEGIN:STANDARD
TZOFFSETFROM:+0000
TZOFFSETTO:+0000
DTSTART:20251014T000000
TZNAME:UTC
END:STANDARD
END:VTIMEZONE
BEGIN:VTIMEZONE
TZID:America/New_York
BEGIN:STANDARD
TZOFFSETFROM:-0400
TZOFFSETTO:-0500
DTSTART:20251102T060000
TZNAME:EST
END:STANDARD
BEGIN:DAYLIGHT
TZOFFSETFROM:-0500
TZOFFSETTO:-0400
DTSTART:20260308T070000
TZNAME:EDT
END:DAYLIGHT
END:VTIMEZONE
BEGIN:VEVENT
SUMMARY:Voter Services Team Event
DESCRIPTION:The Voter Services Team will set up a voting information tab
 le with music\, snacks and beverages and will register voters.
URL;VALUE=URI:https://lwvshr.us/events/voter-services-team-event/
UID:urn:uuid:0b78218a-fd19-43a7-a177-91a54caa76ca
STATUS:CONFIRMED
ORGANIZER:
DTSTAMP:20260420T172327Z
DTSTART;TZID=America/New_York:20260414T120000
DTEND;TZID=America/New_York:20260414T160000
LOCATION:1368 De Bree Ave
END:VEVENT
END:VCALENDAR