BEGIN:VCALENDAR
METHOD:PUBLISH
VERSION:2.0
CALSCALE:GREGORIAN
PRODID:-//NONSGML WPForms//NONSGML Sugar Calendar Feeds v3.11.0//EN
X-WR-CALNAME:Unit Planning Meeting (Online)
X-WR-CALDESC:League of Women Voters - South Hampton Roads
X-WR-TIMEZONE:UTC
BEGIN:VTIMEZONE
TZID:UTC
BEGIN:STANDARD
TZOFFSETFROM:+0000
TZOFFSETTO:+0000
DTSTART:20251016T070000
TZNAME:UTC
END:STANDARD
END:VTIMEZONE
BEGIN:VTIMEZONE
TZID:America/New_York
BEGIN:STANDARD
TZOFFSETFROM:-0400
TZOFFSETTO:-0500
DTSTART:20251102T060000
TZNAME:EST
END:STANDARD
BEGIN:DAYLIGHT
TZOFFSETFROM:-0500
TZOFFSETTO:-0400
DTSTART:20260308T070000
TZNAME:EDT
END:DAYLIGHT
END:VTIMEZONE
BEGIN:VEVENT
SUMMARY:Unit Planning Meeting (Online)
DESCRIPTION:Do you want more meaningful topics at our League Meetings? Â
  Join us this month as we plan for May 2026 including our Annual Meeting
 .\n\nTo Â request the meeting link\, please email shrleague@gmail.com.Â 
  Please including the meeting date and time in the email subject.Â  Than
 k you!
URL;VALUE=URI:https://lwvshr.us/events/unit-planning-meeting-online/
UID:urn:uuid:8e5fa53f-812e-4bd8-a965-bab74882db11
STATUS:CONFIRMED
ORGANIZER:
DTSTAMP:20260422T090501Z
DTSTART;TZID=America/New_York:20260416T190000
DTEND;TZID=America/New_York:20260416T203000
END:VEVENT
END:VCALENDAR