BEGIN:VCALENDAR
METHOD:PUBLISH
VERSION:2.0
CALSCALE:GREGORIAN
PRODID:-//NONSGML WPForms//NONSGML Sugar Calendar Feeds v3.11.0//EN
X-WR-CALNAME:Twenty-Five Years of Going Green
X-WR-CALDESC:League of Women Voters - South Hampton Roads
X-WR-TIMEZONE:UTC
BEGIN:VTIMEZONE
TZID:UTC
BEGIN:STANDARD
TZOFFSETFROM:+0000
TZOFFSETTO:+0000
DTSTART:20251022T070000
TZNAME:UTC
END:STANDARD
END:VTIMEZONE
BEGIN:VTIMEZONE
TZID:America/New_York
BEGIN:STANDARD
TZOFFSETFROM:-0400
TZOFFSETTO:-0500
DTSTART:20251102T060000
TZNAME:EST
END:STANDARD
BEGIN:DAYLIGHT
TZOFFSETFROM:-0500
TZOFFSETTO:-0400
DTSTART:20260308T070000
TZNAME:EDT
END:DAYLIGHT
END:VTIMEZONE
BEGIN:VEVENT
SUMMARY:Twenty-Five Years of Going Green
DESCRIPTION:April is Earth Month!  To celebrate we are hosting speakers
  and discussions based on national\, state\, and local League environmen
 tal positions.\n\nFrom solar panels to a living roof and permeable paver
 s\, League member and conservationist\, Ruth McElroy Amundsen shares les
 sons learned on her journey to a more environmentally friendly\, sustain
 able home and lifestyle.\n\nAll are welcome.  To request the meeting li
 nk\, please email shrleague@gmail.com and include the meeting  date and
  time in the email subject.  Thank you!\n“The League of Women Voters 
 of the United States believes that natural resources should be managed a
 s interrelated parts of life-supporting ecosystems. Resources should be 
 conserved and protected to assure their future availability. Pollution 
 of these resources should be controlled in order to preserve the physica
 l\, chemical and biological integrity of ecosystems and to protect publi
 c health.”\n\n\n—Statement of Position on Natural Resources\, as Aff
 irmed by the 1986 Convention\, Based on Positions Reached from 1958 Thro
 ugh 1986.\n&nbsp\;
URL;VALUE=URI:https://lwvshr.us/events/twenty-five-years-of-going-green-
 an-earth-day-celebration/
UID:urn:uuid:05bef650-0ee7-4f37-8a4c-b664c1f3dfc0
STATUS:CONFIRMED
ORGANIZER:
DTSTAMP:20260420T143919Z
DTSTART;TZID=America/New_York:20260422T190000
DTEND;TZID=America/New_York:20260422T200000
END:VEVENT
END:VCALENDAR