BEGIN:VCALENDAR
METHOD:PUBLISH
VERSION:2.0
CALSCALE:GREGORIAN
PRODID:-//NONSGML WPForms//NONSGML Sugar Calendar Feeds v3.11.0//EN
X-WR-CALNAME:TRAINING: Social Media Advocacy (Online)
X-WR-CALDESC:League of Women Voters - South Hampton Roads
X-WR-TIMEZONE:UTC
BEGIN:VTIMEZONE
TZID:UTC
BEGIN:STANDARD
TZOFFSETFROM:+0000
TZOFFSETTO:+0000
DTSTART:20250826T060000
TZNAME:UTC
END:STANDARD
END:VTIMEZONE
BEGIN:VTIMEZONE
TZID:America/New_York
BEGIN:STANDARD
TZOFFSETFROM:-0400
TZOFFSETTO:-0500
DTSTART:20251102T060000
TZNAME:EST
END:STANDARD
END:VTIMEZONE
BEGIN:VEVENT
SUMMARY:TRAINING: Social Media Advocacy (Online)
DESCRIPTION:Not a LWVSHR event.\nHosted By:  Virginia Interfaith Center
  for Public Policy\nAbout:  Virginia Interfaith Center for Public Polic
 y \nGet More Info &amp\; Sign Up:  Here\n\n\n\n\n\n\nAbout this event\
 n\n\n\n\n\n\n\n\n\n\n\n\n\n\nSocial Media and Communications in Advocacy
  Workshops!\n\n\nJoin the Virginia Interfaith Center for Public Policy (
 VICPP) and Virginia Interfaith Power &amp\; Light (VAIPL ) Communication
 s team for two virtual workshops!\n\nThese workshops will offer practica
 l tips\, examples\, and strategies to help you create impactful content\
 , strengthen your message\, and engage your community effectively across
  platforms to amplify the justice issues you are passionate about.\n\n 	
 First workshop on February 24th at 6 pm will focus on\nSocial Media in A
 dvocacy.\n 	Second workshop on March 3rd at 6 pm will be all about\nLett
 ers to the Editor and Op-Eds.
URL;VALUE=URI:https://lwvshr.us/events/training-social-media-advocacy-on
 line/
UID:urn:uuid:2ce5fa0e-93d2-474d-80c5-aaf83ab23931
STATUS:CONFIRMED
ORGANIZER:
DTSTAMP:20260424T085208Z
DTSTART;TZID=America/New_York:20260224T180000
DTEND;TZID=America/New_York:20260224T200000
END:VEVENT
END:VCALENDAR