BEGIN:VCALENDAR
METHOD:PUBLISH
VERSION:2.0
CALSCALE:GREGORIAN
PRODID:-//NONSGML WPForms//NONSGML Sugar Calendar Feeds v3.11.0//EN
X-WR-CALNAME:TRAINING: Letters to the Editor & Op Ed Advocacy (Online)
X-WR-CALDESC:League of Women Voters - South Hampton Roads
X-WR-TIMEZONE:UTC
BEGIN:VTIMEZONE
TZID:UTC
BEGIN:STANDARD
TZOFFSETFROM:+0000
TZOFFSETTO:+0000
DTSTART:20250902T060000
TZNAME:UTC
END:STANDARD
END:VTIMEZONE
BEGIN:VTIMEZONE
TZID:America/New_York
BEGIN:STANDARD
TZOFFSETFROM:-0400
TZOFFSETTO:-0500
DTSTART:20251102T060000
TZNAME:EST
END:STANDARD
END:VTIMEZONE
BEGIN:VEVENT
SUMMARY:TRAINING: Letters to the Editor & Op Ed Advocacy (Online)
DESCRIPTION:Not a LWVSHR event.\nHosted By:  Virginia Interfaith Center
 \nAbout:  Virginia Interfaith Center for Public Policy \nGet More Info
  &amp\; Sign Up:  Here\n\n\n\n\n\n\nAbout this event\n\n\n\n\n\n\n\n\n\
 n\n\n\n\nSocial Media and Communications in Advocacy Workshops!\n\n\nJoi
 n the Virginia Interfaith Center for Public Policy (VICPP) and Virginia 
 Interfaith Power &amp\; Light (VAIPL ) Communications team for two virtu
 al workshops!\n\nThese workshops will offer practical tips\, examples\, 
 and strategies to help you create impactful content\, strengthen your me
 ssage\, and engage your community effectively across platforms to amplif
 y the justice issues you are passionate about.\n\n 	First workshop on Fe
 bruary 24th at 6 pm will focus on\nSocial Media in Advocacy.\n 	Second w
 orkshop on March 3rd at 6 pm will be all about\nLetters to the Editor an
 d Op-Eds.
URL;VALUE=URI:https://lwvshr.us/events/training-social-media-advocacy-on
 line-2/
UID:urn:uuid:2ce5fa0e-93d2-474d-80c5-aaf83ab23931
STATUS:CONFIRMED
ORGANIZER:
DTSTAMP:20260422T104613Z
DTSTART;TZID=America/New_York:20260303T180000
DTEND;TZID=America/New_York:20260303T200000
END:VEVENT
END:VCALENDAR