BEGIN:VCALENDAR
METHOD:PUBLISH
VERSION:2.0
CALSCALE:GREGORIAN
PRODID:-//NONSGML WPForms//NONSGML Sugar Calendar Feeds v3.11.0//EN
X-WR-CALNAME:Team Young Voter - Zeiders American Dream Theater Fringe Fe
 stival
X-WR-CALDESC:League of Women Voters - South Hampton Roads
X-WR-TIMEZONE:UTC
BEGIN:VTIMEZONE
TZID:UTC
BEGIN:STANDARD
TZOFFSETFROM:+0000
TZOFFSETTO:+0000
DTSTART:20251009T120000
TZNAME:UTC
END:STANDARD
END:VTIMEZONE
BEGIN:VTIMEZONE
TZID:UTC
BEGIN:STANDARD
TZOFFSETFROM:+0000
TZOFFSETTO:+0000
DTSTART:20251009T120000
TZNAME:UTC
END:STANDARD
END:VTIMEZONE
BEGIN:VEVENT
SUMMARY:Team Young Voter - Zeiders American Dream Theater Fringe Festiva
 l
DESCRIPTION:Tidewater Community College Poster Exhibit &amp\; Voter Info
  Event\nTeam Young Voter will present an exhibit of original student VO
 TE posters created by students at Tidewater Community College (Norfolk C
 ampus.)\n\n\n 	To view the exhibit and theatrical performances at the Fr
 inge Festival\, you'll need to buy a Fringe Festival ticket.\n 	Passes a
 re available for single shows\, single days or the entire Festival!\n 	I
 f you've never been to a Fringe Festival\, it's a cornucopia of talent a
 nd entertainment!\n 	ALSO... nonpartisan voting information handouts at 
 the Team Young Voter /TCC Poster Exhibit.\n\nDates: \nFriday April 10\,
  5 pm - 10 pm\nSaturday April 11\, 11 am - 10 pm\nSunday\, April 12\,
  1:30 - 7:30 pm\nTime: Varies by day.  We will be setting up shifts.\n
 Address: Zeiders American Dream Theater\, Virginia Beach Town Center  
 4509 Commerce St.\, Virginia Beach\, VA\nMap &amp\; Directions
URL;VALUE=URI:https://lwvshr.us/events/team-young-voter-zeiders-american
 -dream-theater-fringe-festival/
UID:urn:uuid:6eaff377-1b50-427a-94cb-63aef2bbdc9a
STATUS:CONFIRMED
ORGANIZER:
DTSTAMP:20260424T104116Z
DTSTART;VALUE=DATE:20260410
DTEND;VALUE=DATE:20260412
END:VEVENT
END:VCALENDAR