BEGIN:VCALENDAR
METHOD:PUBLISH
VERSION:2.0
CALSCALE:GREGORIAN
PRODID:-//NONSGML WPForms//NONSGML Sugar Calendar Feeds v3.11.0//EN
X-WR-CALNAME:Stewarding Democracy: State and Local League Board Orientat
 ion
X-WR-CALDESC:League of Women Voters - South Hampton Roads
X-WR-TIMEZONE:UTC
BEGIN:VTIMEZONE
TZID:UTC
BEGIN:STANDARD
TZOFFSETFROM:+0000
TZOFFSETTO:+0000
DTSTART:20251029T033000
TZNAME:UTC
END:STANDARD
END:VTIMEZONE
BEGIN:VTIMEZONE
TZID:America/New_York
BEGIN:STANDARD
TZOFFSETFROM:-0400
TZOFFSETTO:-0500
DTSTART:20251102T060000
TZNAME:EST
END:STANDARD
BEGIN:DAYLIGHT
TZOFFSETFROM:-0500
TZOFFSETTO:-0400
DTSTART:20260308T070000
TZNAME:EDT
END:DAYLIGHT
END:VTIMEZONE
BEGIN:VEVENT
SUMMARY:Stewarding Democracy: State and Local League Board Orientation
DESCRIPTION:Are you on our Board or thinking of becoming a Board member?
 \n\nParticipants will explore how to build a cohesive and high-functioni
 ng board\, understand their fiduciary and strategic responsibilities\, a
 nd align their work with League priorities. The session will also highli
 ght practical tools for onboarding new members\, fostering accountabilit
 y\, and maintaining continuity during leadership transitions.\n\nNOTE - 
 This training is offered by the National League and is for LWV members O
 NLY.
URL;VALUE=URI:https://lwvshr.us/events/stewarding-democracy-state-and-lo
 cal-league-board-orientation/
UID:urn:uuid:acd74f7f-7591-44e2-882d-06e9466254be
STATUS:CONFIRMED
ORGANIZER:
DTSTAMP:20260420T143822Z
DTSTART;TZID=America/New_York:20260429T153000
DTEND;TZID=America/New_York:20260429T163000
END:VEVENT
END:VCALENDAR