BEGIN:VCALENDAR
METHOD:PUBLISH
VERSION:2.0
CALSCALE:GREGORIAN
PRODID:-//NONSGML WPForms//NONSGML Sugar Calendar Feeds v3.11.0//EN
X-WR-CALNAME:Stand Up Against Street Harassment
X-WR-CALDESC:League of Women Voters - South Hampton Roads
X-WR-TIMEZONE:UTC
BEGIN:VTIMEZONE
TZID:UTC
BEGIN:STANDARD
TZOFFSETFROM:+0000
TZOFFSETTO:+0000
DTSTART:20250909T020000
TZNAME:UTC
END:STANDARD
END:VTIMEZONE
BEGIN:VTIMEZONE
TZID:America/New_York
BEGIN:STANDARD
TZOFFSETFROM:-0400
TZOFFSETTO:-0500
DTSTART:20251102T060000
TZNAME:EST
END:STANDARD
BEGIN:DAYLIGHT
TZOFFSETFROM:-0500
TZOFFSETTO:-0400
DTSTART:20260308T070000
TZNAME:EDT
END:DAYLIGHT
END:VTIMEZONE
BEGIN:VEVENT
SUMMARY:Stand Up Against Street Harassment
DESCRIPTION:** Not a LWVSHR partner/event. **\nHosted By:  Right to Be 
 Organization\nGet More Info &amp\; Sign Up: Stand Up Against Street Hara
 ssment\n\n\n\n\n\n\n\n\n&nbsp\;\n\n 	How can we take action if we don’
 t know what to do? Right To Be is offering this free\, one-hour\, intera
 ctive training to train people on how to safely intervene when you witne
 ss street harassment — or experience it yourself.
URL;VALUE=URI:https://lwvshr.us/events/stand-up-against-street-harassmen
 t/
UID:urn:uuid:6c9136c8-54aa-45a4-b3cf-b13b6d3eaa27
STATUS:CONFIRMED
ORGANIZER:
DTSTAMP:20260422T090737Z
DTSTART;TZID=America/New_York:20260310T140000
DTEND;TZID=America/New_York:20260310T150000
END:VEVENT
END:VCALENDAR