BEGIN:VCALENDAR
METHOD:PUBLISH
VERSION:2.0
CALSCALE:GREGORIAN
PRODID:-//NONSGML WPForms//NONSGML Sugar Calendar Feeds v3.11.0//EN
X-WR-CALNAME:Resist-Persist
X-WR-CALDESC:League of Women Voters - South Hampton Roads
X-WR-TIMEZONE:UTC
BEGIN:VTIMEZONE
TZID:UTC
BEGIN:STANDARD
TZOFFSETFROM:+0000
TZOFFSETTO:+0000
DTSTART:20251014T193000
TZNAME:UTC
END:STANDARD
END:VTIMEZONE
BEGIN:VTIMEZONE
TZID:America/New_York
BEGIN:STANDARD
TZOFFSETFROM:-0400
TZOFFSETTO:-0500
DTSTART:20251102T060000
TZNAME:EST
END:STANDARD
BEGIN:DAYLIGHT
TZOFFSETFROM:-0500
TZOFFSETTO:-0400
DTSTART:20260308T070000
TZNAME:EDT
END:DAYLIGHT
END:VTIMEZONE
BEGIN:VEVENT
SUMMARY:Resist & Persist
DESCRIPTION:Not a LWVSHR event.\nHosted By:  Virginia Grassroots\nGet M
 ore Info &amp\; Sign Up:  Here\n\n\n\n\n\n\nAbout this event\n\n\n\n\n\
 n\n\n 	Join COVA's Visibility Brigade for a weekly protest on Wednesdays
 !\n 	Bring your signs and meet us at the corner's of Independence and Vi
 rginia Beach Blvd.\n 	There is plenty of free parking in Town Center.\n\
 n\n\n\n\n\n\n\n\n\n\nAccessibility\n\n\n\n\n\nHave accessibility questio
 ns? Reply to your registration email to confirm your requirements or req
 uest more information.
URL;VALUE=URI:https://lwvshr.us/sc_recurring_event/resist-persist/
UID:urn:uuid:8b36c0a0-3f9f-4a93-a8d5-3c6373049e94
STATUS:CONFIRMED
ORGANIZER:
DTSTAMP:20260420T171238Z
DTSTART;TZID=America/New_York:20260415T073000
DTEND;TZID=America/New_York:20260415T090000
RRULE:FREQ=WEEKLY;INTERVAL=1;UNTIL=20260826T235959Z
END:VEVENT
END:VCALENDAR