BEGIN:VCALENDAR
METHOD:PUBLISH
VERSION:2.0
CALSCALE:GREGORIAN
PRODID:-//NONSGML WPForms//NONSGML Sugar Calendar Feeds v3.11.0//EN
X-WR-CALNAME:Reproductive Rights Event
X-WR-CALDESC:League of Women Voters - South Hampton Roads
X-WR-TIMEZONE:UTC
BEGIN:VTIMEZONE
TZID:UTC
BEGIN:STANDARD
TZOFFSETFROM:+0000
TZOFFSETTO:+0000
DTSTART:20251114T120000
TZNAME:UTC
END:STANDARD
END:VTIMEZONE
BEGIN:VTIMEZONE
TZID:UTC
BEGIN:STANDARD
TZOFFSETFROM:+0000
TZOFFSETTO:+0000
DTSTART:20251114T120000
TZNAME:UTC
END:STANDARD
END:VTIMEZONE
BEGIN:VEVENT
SUMMARY:Reproductive Rights Event
DESCRIPTION:Please join us in Richmond for powerful speakers\, special
  guests\, and opportunities to take action supporting the work ahead.\n\
 nThe event will end with a short march\, so bring your best homemade 
 sign!
URL;VALUE=URI:https://lwvshr.us/events/reproductive-rights-event/
UID:urn:uuid:4896df42-cf2f-4be2-9f5b-9f17a46b5935
STATUS:CONFIRMED
ORGANIZER:
DTSTAMP:20260424T091218Z
DTSTART;VALUE=DATE:20260516
END:VEVENT
END:VCALENDAR