BEGIN:VCALENDAR
METHOD:PUBLISH
VERSION:2.0
CALSCALE:GREGORIAN
PRODID:-//NONSGML WPForms//NONSGML Sugar Calendar Feeds v3.11.0//EN
X-WR-CALNAME:Protest Safety Training: Situational Awareness
X-WR-CALDESC:League of Women Voters - South Hampton Roads
X-WR-TIMEZONE:UTC
BEGIN:VTIMEZONE
TZID:UTC
BEGIN:STANDARD
TZOFFSETFROM:+0000
TZOFFSETTO:+0000
DTSTART:20250924T080000
TZNAME:UTC
END:STANDARD
END:VTIMEZONE
BEGIN:VTIMEZONE
TZID:America/New_York
BEGIN:STANDARD
TZOFFSETFROM:-0400
TZOFFSETTO:-0500
DTSTART:20251102T060000
TZNAME:EST
END:STANDARD
BEGIN:DAYLIGHT
TZOFFSETFROM:-0500
TZOFFSETTO:-0400
DTSTART:20260308T070000
TZNAME:EDT
END:DAYLIGHT
END:VTIMEZONE
BEGIN:VEVENT
SUMMARY:Protest Safety Training: Situational Awareness
DESCRIPTION:Not a LWVSHR event.\nHosted By:  Women's March\nGet More In
 fo &amp\; Sign Up\n\n\n\n\nPROTEST SAFETY TRAINING SERIES\nAs we get rea
 dy for No Kings on March 28\, join us for an essential safety training o
 n Situational Awareness—whether you’re attending or organizing a
  protest.\nYou’ll learn key tools to:\n\n\n 	 know your surroundings\,
  \n 	stay aware\, \n 	identify threats\, and \n 	ways to stay safe.
URL;VALUE=URI:https://lwvshr.us/events/protest-safety-training-situation
 al-awareness/
UID:urn:uuid:ef8c742b-7bd4-4003-bb0d-9a7a2f1a8153
STATUS:CONFIRMED
ORGANIZER:
DTSTAMP:20260422T103529Z
DTSTART;TZID=America/New_York:20260325T200000
DTEND;TZID=America/New_York:20260325T210000
END:VEVENT
END:VCALENDAR