BEGIN:VCALENDAR
METHOD:PUBLISH
VERSION:2.0
CALSCALE:GREGORIAN
PRODID:-//NONSGML WPForms//NONSGML Sugar Calendar Feeds v3.11.0//EN
X-WR-CALNAME:Protest Rights & Safety Measure (for all NO KINGS attendees
 )
X-WR-CALDESC:League of Women Voters - South Hampton Roads
X-WR-TIMEZONE:UTC
BEGIN:VTIMEZONE
TZID:UTC
BEGIN:STANDARD
TZOFFSETFROM:+0000
TZOFFSETTO:+0000
DTSTART:20250917T080000
TZNAME:UTC
END:STANDARD
END:VTIMEZONE
BEGIN:VTIMEZONE
TZID:America/New_York
BEGIN:STANDARD
TZOFFSETFROM:-0400
TZOFFSETTO:-0500
DTSTART:20251102T060000
TZNAME:EST
END:STANDARD
BEGIN:DAYLIGHT
TZOFFSETFROM:-0500
TZOFFSETTO:-0400
DTSTART:20260308T070000
TZNAME:EDT
END:DAYLIGHT
END:VTIMEZONE
BEGIN:VEVENT
SUMMARY:Protest Rights & Safety Measure (for all NO KINGS attendees)
DESCRIPTION:** Not a LWVSHR partner/event. **\nHosted By:  ACLU\nGet Mo
 re Info &amp\; Sign Up: Protest Rights &amp\; Safety Measures\n\n\n\n\n\
 n\n\nIn this ACLU-led training\, participants will learn about the Const
 itutional right to peacefully protest and about best practices for reduc
 ing risks when attending protests like the upcoming No Kings mobilizatio
 n on March 28.
URL;VALUE=URI:https://lwvshr.us/events/protest-rights-safety-measure-for
 -all-no-kings-attendees/
UID:urn:uuid:44a3f07e-e45b-448e-bf85-f1bd7cd86381
STATUS:CONFIRMED
ORGANIZER:
DTSTAMP:20260424T091218Z
DTSTART;TZID=America/New_York:20260318T200000
DTEND;TZID=America/New_York:20260318T210000
END:VEVENT
END:VCALENDAR