BEGIN:VCALENDAR
METHOD:PUBLISH
VERSION:2.0
CALSCALE:GREGORIAN
PRODID:-//NONSGML WPForms//NONSGML Sugar Calendar Feeds v3.11.0//EN
X-WR-CALNAME:Program Committee (LWVSHR)
X-WR-CALDESC:League of Women Voters - South Hampton Roads
X-WR-TIMEZONE:UTC
BEGIN:VTIMEZONE
TZID:UTC
BEGIN:STANDARD
TZOFFSETFROM:+0000
TZOFFSETTO:+0000
DTSTART:20251007T070000
TZNAME:UTC
END:STANDARD
END:VTIMEZONE
BEGIN:VTIMEZONE
TZID:America/New_York
BEGIN:STANDARD
TZOFFSETFROM:-0400
TZOFFSETTO:-0500
DTSTART:20251102T060000
TZNAME:EST
END:STANDARD
BEGIN:DAYLIGHT
TZOFFSETFROM:-0500
TZOFFSETTO:-0400
DTSTART:20260308T070000
TZNAME:EDT
END:DAYLIGHT
END:VTIMEZONE
BEGIN:VEVENT
SUMMARY:Program Committee (LWVSHR)
DESCRIPTION:The committee continues to examine the roles of at large vs 
 district voting in the governance of our jurisdictions.  Please email s
 clarkson@lwvshrmail.org for information.
URL;VALUE=URI:https://lwvshr.us/events/program-committee-lwvshr/
UID:urn:uuid:3829a7a5-5120-4157-a6c5-8644ae000222
STATUS:CONFIRMED
ORGANIZER:
DTSTAMP:20260422T085727Z
DTSTART;TZID=America/New_York:20260407T190000
DTEND;TZID=America/New_York:20260407T200000
END:VEVENT
END:VCALENDAR