BEGIN:VCALENDAR
METHOD:PUBLISH
VERSION:2.0
CALSCALE:GREGORIAN
PRODID:-//NONSGML WPForms//NONSGML Sugar Calendar Feeds v3.11.0//EN
X-WR-CALNAME:Pride in the 'Peake
X-WR-CALDESC:League of Women Voters - South Hampton Roads
X-WR-TIMEZONE:UTC
BEGIN:VTIMEZONE
TZID:UTC
BEGIN:STANDARD
TZOFFSETFROM:+0000
TZOFFSETTO:+0000
DTSTART:20251214T000000
TZNAME:UTC
END:STANDARD
END:VTIMEZONE
BEGIN:VTIMEZONE
TZID:America/New_York
BEGIN:DAYLIGHT
TZOFFSETFROM:-0500
TZOFFSETTO:-0400
DTSTART:20260308T070000
TZNAME:EDT
END:DAYLIGHT
END:VTIMEZONE
BEGIN:VEVENT
SUMMARY:Pride in the 'Peake
DESCRIPTION:The 5th Annual Pride in the 'Peake is a family friendly LGBT
 Q+ event on Sunday June 14th from 12-5pm at Chesapeake City Park.\n 	Ven
 dors\, food\, music and community partners will be in attendance.\n 	Com
 munity partners like our League are free to participate. LWVSHR will hav
 e a table and displays.\n 	Please volunteer for a  2-3 hour shift:\n\n 
 	Setup and booth 10am-1pm\,\n 	Booth only 1-4pm\, 4pm\, or\n 	Booth and 
 pack up.\n\n\n 	To volunteer contact: jhanewich@lwvshrmail.org\n\n&nbsp\
 ;
URL;VALUE=URI:https://lwvshr.us/events/pride-in-the-peake/
UID:urn:uuid:67335530-a3fa-45e5-8aad-d6f9994d0635
STATUS:CONFIRMED
ORGANIZER:
DTSTAMP:20260420T172202Z
DTSTART;TZID=America/New_York:20260614T120000
DTEND;TZID=America/New_York:20260614T170000
END:VEVENT
END:VCALENDAR