BEGIN:VCALENDAR
METHOD:PUBLISH
VERSION:2.0
CALSCALE:GREGORIAN
PRODID:-//NONSGML WPForms//NONSGML Sugar Calendar Feeds v3.11.0//EN
X-WR-CALNAME:Organizing-For-Power
X-WR-CALDESC:League of Women Voters - South Hampton Roads
X-WR-TIMEZONE:UTC
BEGIN:VTIMEZONE
TZID:UTC
BEGIN:STANDARD
TZOFFSETFROM:+0000
TZOFFSETTO:+0000
DTSTART:20251022T060000
TZNAME:UTC
END:STANDARD
END:VTIMEZONE
BEGIN:VTIMEZONE
TZID:America/New_York
BEGIN:STANDARD
TZOFFSETFROM:-0400
TZOFFSETTO:-0500
DTSTART:20251102T060000
TZNAME:EST
END:STANDARD
BEGIN:DAYLIGHT
TZOFFSETFROM:-0500
TZOFFSETTO:-0400
DTSTART:20260308T070000
TZNAME:EDT
END:DAYLIGHT
END:VTIMEZONE
BEGIN:VEVENT
SUMMARY:Organizing For Power
DESCRIPTION:&nbsp\;\n\n\nNot a LWVSHR event.\nHosted By:  Common Cause\
 nGet More Info &amp\; Sign Up: Here\n\n\n\n\nInteractive Organizing for
  Power is a monthly series to learn how to build your power and drive th
 e change you want to see.\n\nWhat You'll Gain: • Understand organizing
 's power even in challenging times • Develop practical skills to organ
 ize and mobilize effectively • Learn strategies to stay grounded\, res
 ilient\, and connected\n\nWho Should Attend: Whether you're new to organ
 izing or a longtime advocate\, this interactive series equips you with t
 ools to transform passion into action.
URL;VALUE=URI:https://lwvshr.us/sc_recurring_event/organizing-for-power/
UID:urn:uuid:011db140-a148-411e-8da6-e855138b1fb8
STATUS:CONFIRMED
ORGANIZER:
DTSTAMP:20260420T142821Z
DTSTART;TZID=America/New_York:20260422T180000
DTEND;TZID=America/New_York:20260422T193000
RRULE:FREQ=MONTHLY;INTERVAL=1;UNTIL=20260826T235959Z
END:VEVENT
END:VCALENDAR