BEGIN:VCALENDAR
METHOD:PUBLISH
VERSION:2.0
CALSCALE:GREGORIAN
PRODID:-//NONSGML WPForms//NONSGML Sugar Calendar Feeds v3.11.0//EN
X-WR-CALNAME:No Kings Day - In Person
X-WR-CALDESC:League of Women Voters - South Hampton Roads
X-WR-TIMEZONE:UTC
BEGIN:VTIMEZONE
TZID:UTC
BEGIN:STANDARD
TZOFFSETFROM:+0000
TZOFFSETTO:+0000
DTSTART:20250926T120000
TZNAME:UTC
END:STANDARD
END:VTIMEZONE
BEGIN:VTIMEZONE
TZID:UTC
BEGIN:STANDARD
TZOFFSETFROM:+0000
TZOFFSETTO:+0000
DTSTART:20250926T120000
TZNAME:UTC
END:STANDARD
END:VTIMEZONE
BEGIN:VEVENT
SUMMARY:No Kings Day - In Person
DESCRIPTION:No Kings Day is a nonpartisan\, peaceful protest movement fo
 cused on defending the Constitution and resisting authoritarianism. The 
 League of Women Voters encourages members to participate in a nonpartisa
 n\, de-escalatory manner.\n\n\n 	We are coordinating with our partners/o
 ther organizations. We are making plans for our LWVSHR members to join t
 he rallies being planned for our area.\n 	League members should sign upÂ
   for the march you want to attend (through Mobilize) AND sign up with L
 WVSHR. (Signing up with LWVSHR assures that we can coordinate with you\;
  you'll be able to know which other LWVSHR members are at the rally\, wh
 ere to meet\, get our safety plan\, pick up signs\,Â  etc.)\n\n\n 	Sign 
 up for the rally you want to attend (through Mobilize) here: CoVa Coalit
 ion\n 	Sign up with LWVSHR to get details on how OUR GROUP is organizing
  to attend the rallies.\n\n\n\n\n\n\n&nbsp\;\n\n\n\n&nbsp\;
URL;VALUE=URI:https://lwvshr.us/events/no-kings-day/
UID:urn:uuid:62de4059-5d9d-4e0e-bf87-dc36172c96e3
STATUS:CONFIRMED
ORGANIZER:
DTSTAMP:20260422T090529Z
DTSTART;VALUE=DATE:20260328
END:VEVENT
END:VCALENDAR