BEGIN:VCALENDAR
METHOD:PUBLISH
VERSION:2.0
CALSCALE:GREGORIAN
PRODID:-//NONSGML WPForms//NONSGML Sugar Calendar Feeds v3.11.0//EN
X-WR-CALNAME:Newly Passed Restrictive Voting Laws Affecting Midterms: Wh
 at You Need to Know
X-WR-CALDESC:League of Women Voters - South Hampton Roads
X-WR-TIMEZONE:UTC
BEGIN:VTIMEZONE
TZID:UTC
BEGIN:STANDARD
TZOFFSETFROM:+0000
TZOFFSETTO:+0000
DTSTART:20251030T030000
TZNAME:UTC
END:STANDARD
END:VTIMEZONE
BEGIN:VTIMEZONE
TZID:America/New_York
BEGIN:STANDARD
TZOFFSETFROM:-0400
TZOFFSETTO:-0500
DTSTART:20251102T060000
TZNAME:EST
END:STANDARD
BEGIN:DAYLIGHT
TZOFFSETFROM:-0500
TZOFFSETTO:-0400
DTSTART:20260308T070000
TZNAME:EDT
END:DAYLIGHT
END:VTIMEZONE
BEGIN:VEVENT
SUMMARY:Newly Passed Restrictive Voting Laws Affecting Midterms: What Yo
 u Need to Know
DESCRIPTION:This webinar is intended for League members engaged in state
  and local advocacy\, voter education\, and election protection efforts\
 , preparing voters for a changed voting landscape. \n\nThis webinar will
  provide an overview of key changes to voting access across the states\,
  highlight major trends we are seeing nationwide\, and explain what thes
 e laws could mean for voters and League advocacy
URL;VALUE=URI:https://lwvshr.us/events/newly-passed-restrictive-voting-l
 aws-affecting-midterms-what-you-need-to-know/
UID:urn:uuid:987e8efa-c9ca-4d6f-9956-309c41d92a74
STATUS:CONFIRMED
ORGANIZER:
DTSTAMP:20260420T134241Z
DTSTART;TZID=America/New_York:20260430T150000
DTEND;TZID=America/New_York:20260430T160000
END:VEVENT
END:VCALENDAR