BEGIN:VCALENDAR
METHOD:PUBLISH
VERSION:2.0
CALSCALE:GREGORIAN
PRODID:-//NONSGML WPForms//NONSGML Sugar Calendar Feeds v3.11.0//EN
X-WR-CALNAME:Saturday Zoom Unit (Online) Environmental Legislation Updat
 e
X-WR-CALDESC:League of Women Voters - South Hampton Roads
X-WR-TIMEZONE:UTC
BEGIN:VTIMEZONE
TZID:UTC
BEGIN:STANDARD
TZOFFSETFROM:+0000
TZOFFSETTO:+0000
DTSTART:20251017T220000
TZNAME:UTC
END:STANDARD
END:VTIMEZONE
BEGIN:VTIMEZONE
TZID:America/New_York
BEGIN:STANDARD
TZOFFSETFROM:-0400
TZOFFSETTO:-0500
DTSTART:20251102T060000
TZNAME:EST
END:STANDARD
BEGIN:DAYLIGHT
TZOFFSETFROM:-0500
TZOFFSETTO:-0400
DTSTART:20260308T070000
TZNAME:EDT
END:DAYLIGHT
END:VTIMEZONE
BEGIN:VEVENT
SUMMARY:Saturday Zoom Unit (Online) Environmental Legislation Update
DESCRIPTION:April is Earth Month!  To celebrate we are hosting speakers
  and discussions based on national\, state\, and local League environmen
 tal positions.\n\nJoin us on Zoom as Kim Sudderth from Virginia Interfai
 th Power and Light gives a recap on how enviromental legislation fared i
 n the 2026 Virginia General Assembly.\n\nAll are welcome.  To request t
 he meeting link\, please email shrleague@gmail.com and include the meet
 ing  date and time in the email subject.  Thank you!\n\n&nbsp\;
URL;VALUE=URI:https://lwvshr.us/events/lwvshr-general-meeting-online-2/
UID:urn:uuid:ba890724-a09a-4f74-a298-b26fe0284bc1
STATUS:CONFIRMED
ORGANIZER:
DTSTAMP:20260422T090726Z
DTSTART;TZID=America/New_York:20260418T100000
DTEND;TZID=America/New_York:20260418T110000
END:VEVENT
END:VCALENDAR