BEGIN:VCALENDAR
METHOD:PUBLISH
VERSION:2.0
CALSCALE:GREGORIAN
PRODID:-//NONSGML WPForms//NONSGML Sugar Calendar Feeds v3.11.0//EN
X-WR-CALNAME:Saturday-Zoom-Unit-Online
X-WR-CALDESC:League of Women Voters - South Hampton Roads
X-WR-TIMEZONE:UTC
BEGIN:VTIMEZONE
TZID:UTC
BEGIN:STANDARD
TZOFFSETFROM:+0000
TZOFFSETTO:+0000
DTSTART:20261218T220000
TZNAME:UTC
END:STANDARD
END:VTIMEZONE
BEGIN:VTIMEZONE
TZID:America/New_York
BEGIN:DAYLIGHT
TZOFFSETFROM:-0500
TZOFFSETTO:-0400
DTSTART:20270314T070000
TZNAME:EDT
END:DAYLIGHT
END:VTIMEZONE
BEGIN:VEVENT
SUMMARY:Saturday Zoom Unit (Online)
DESCRIPTION:To request the meeting link\, please email shrleague@gmail.c
 om.  Please including the meeting date and time in the email subject. 
  Thank you!
URL;VALUE=URI:https://lwvshr.us/sc_recurring_event/lwvshr-general-meetin
 g-online-2/
UID:urn:uuid:05fef4bf-9a30-4f89-9948-e868b7e2127c
STATUS:CONFIRMED
ORGANIZER:
DTSTAMP:20260420T184003Z
DTSTART;TZID=America/New_York:20270619T100000
DTEND;TZID=America/New_York:20270619T120000
RRULE:FREQ=MONTHLY;INTERVAL=1
END:VEVENT
END:VCALENDAR