BEGIN:VCALENDAR
METHOD:PUBLISH
VERSION:2.0
CALSCALE:GREGORIAN
PRODID:-//NONSGML WPForms//NONSGML Sugar Calendar Feeds v3.11.0//EN
X-WR-CALNAME:LWVSHR Breakfast Unit  (In Person) Environmental Justice Di
 scussion
X-WR-CALDESC:League of Women Voters - South Hampton Roads
X-WR-TIMEZONE:UTC
BEGIN:VTIMEZONE
TZID:UTC
BEGIN:STANDARD
TZOFFSETFROM:+0000
TZOFFSETTO:+0000
DTSTART:20251014T210000
TZNAME:UTC
END:STANDARD
END:VTIMEZONE
BEGIN:VTIMEZONE
TZID:America/New_York
BEGIN:STANDARD
TZOFFSETFROM:-0400
TZOFFSETTO:-0500
DTSTART:20251102T060000
TZNAME:EST
END:STANDARD
BEGIN:DAYLIGHT
TZOFFSETFROM:-0500
TZOFFSETTO:-0400
DTSTART:20260308T070000
TZNAME:EDT
END:DAYLIGHT
END:VTIMEZONE
BEGIN:VEVENT
SUMMARY:LWVSHR Breakfast Unit  (In Person) Environmental Justice Discuss
 ion
DESCRIPTION:April is Earth Month! To celebrate we are hosting speakers a
 nd discussions based on National\, State\, and Local League environmenta
 l positions.  Join us at Mudita Cafe and Bar as we discuss:\n\nWhat doe
 s Environmental Justice mean for South Hampton Roads? How can we as a lo
 cal League take action to make our corner of Virginia a safer and health
 ier environment for everyone who lives here?\n\nOur state position is "S
 upport for environmental justice as a guiding principle for all branches
  of state government.  Support for an expansive view of environmental 
 factors that impact quality of life now and in the future\, for meaningf
 ul community engagement from the beginning and throughout environmental 
 decision-making\, and for use of modern tools and changed practices to e
 nsure that past environmental injustices are not repeated but are mitiga
 ted."\n\nAll are welcome. To register\, please email Amy Schock at amysc
 hock13@gmail.com  include the meeting date and time in the email subjec
 t. Thank you!
URL;VALUE=URI:https://lwvshr.us/events/lwvshr-breakfast-unit-in-person-2
 /
UID:urn:uuid:26ad1d61-9f96-405c-8f9f-64437b92ff0d
STATUS:CONFIRMED
ORGANIZER:
DTSTAMP:20260422T090640Z
DTSTART;TZID=America/New_York:20260415T090000
DTEND;TZID=America/New_York:20260415T103000
LOCATION:9647 First View ST
END:VEVENT
END:VCALENDAR