BEGIN:VCALENDAR
METHOD:PUBLISH
VERSION:2.0
CALSCALE:GREGORIAN
PRODID:-//NONSGML WPForms//NONSGML Sugar Calendar Feeds v3.11.0//EN
X-WR-CALNAME:LWVSHR Board Meeting - Virtual
X-WR-CALDESC:League of Women Voters - South Hampton Roads
X-WR-TIMEZONE:UTC
BEGIN:VTIMEZONE
TZID:UTC
BEGIN:STANDARD
TZOFFSETFROM:+0000
TZOFFSETTO:+0000
DTSTART:20251010T210000
TZNAME:UTC
END:STANDARD
END:VTIMEZONE
BEGIN:VTIMEZONE
TZID:America/New_York
BEGIN:STANDARD
TZOFFSETFROM:-0400
TZOFFSETTO:-0500
DTSTART:20251102T060000
TZNAME:EST
END:STANDARD
BEGIN:DAYLIGHT
TZOFFSETFROM:-0500
TZOFFSETTO:-0400
DTSTART:20260308T070000
TZNAME:EDT
END:DAYLIGHT
END:VTIMEZONE
BEGIN:VEVENT
SUMMARY:LWVSHR Board Meeting - Virtual
DESCRIPTION:LWVSHR Monthly Board Meeting (Virtual)\n\n\n 	All members ar
 e welcome.\n\n 	To request the meeting link\, please email shrleague@gma
 il.com. (Please include the meeting date and time in the email subject.)
 \n 	To easily add this event to your personal calendar\, R.S.V.P. by cli
 cking on the event listing title. 
URL;VALUE=URI:https://lwvshr.us/events/lwvshr-board-meeting-virtual/
UID:urn:uuid:f8115140-4256-4de3-b258-73ff765df9ef
STATUS:CONFIRMED
ORGANIZER:
DTSTAMP:20260422T090527Z
DTSTART;TZID=America/New_York:20260411T090000
DTEND;TZID=America/New_York:20260411T110000
END:VEVENT
END:VCALENDAR