BEGIN:VCALENDAR
METHOD:PUBLISH
VERSION:2.0
CALSCALE:GREGORIAN
PRODID:-//NONSGML WPForms//NONSGML Sugar Calendar Feeds v3.11.0//EN
X-WR-CALNAME:LWVSHR-Board-Meeting-Virtual
X-WR-CALDESC:League of Women Voters - South Hampton Roads
X-WR-TIMEZONE:UTC
BEGIN:VTIMEZONE
TZID:UTC
BEGIN:STANDARD
TZOFFSETFROM:+0000
TZOFFSETTO:+0000
DTSTART:20251031T210000
TZNAME:UTC
END:STANDARD
END:VTIMEZONE
BEGIN:VTIMEZONE
TZID:America/New_York
BEGIN:STANDARD
TZOFFSETFROM:-0400
TZOFFSETTO:-0500
DTSTART:20251102T060000
TZNAME:EST
END:STANDARD
BEGIN:DAYLIGHT
TZOFFSETFROM:-0500
TZOFFSETTO:-0400
DTSTART:20260308T070000
TZNAME:EDT
END:DAYLIGHT
END:VTIMEZONE
BEGIN:VEVENT
SUMMARY:LWVSHR Board Meeting - Virtual
DESCRIPTION:LWVSHR Monthly Board Meeting (Virtual)\n\n\n 	All members ar
 e welcome.\n\n 	To request the meeting link\, please email shrleague@gma
 il.com. (Please include the meeting date and time in the email subject.)
 \n 	To easily add this event to your personal calendar\, R.S.V.P. by cli
 cking on the event listing title. 
URL;VALUE=URI:https://lwvshr.us/sc_recurring_event/lwvshr-board-meeting-
 virtual/
UID:urn:uuid:f2d2e353-c209-4416-8179-6efd91824706
STATUS:CONFIRMED
ORGANIZER:
DTSTAMP:20260420T143755Z
DTSTART;TZID=America/New_York:20260502T090000
DTEND;TZID=America/New_York:20260502T110000
RRULE:FREQ=MONTHLY;INTERVAL=1;UNTIL=20261205T235959Z
END:VEVENT
END:VCALENDAR