BEGIN:VCALENDAR
METHOD:PUBLISH
VERSION:2.0
CALSCALE:GREGORIAN
PRODID:-//NONSGML WPForms//NONSGML Sugar Calendar Feeds v3.11.0//EN
X-WR-CALNAME:LWV-SHR-Environment-Committee
X-WR-CALDESC:League of Women Voters - South Hampton Roads
X-WR-TIMEZONE:UTC
BEGIN:VTIMEZONE
TZID:UTC
BEGIN:STANDARD
TZOFFSETFROM:+0000
TZOFFSETTO:+0000
DTSTART:20261004T070000
TZNAME:UTC
END:STANDARD
END:VTIMEZONE
BEGIN:VTIMEZONE
TZID:America/New_York
BEGIN:STANDARD
TZOFFSETFROM:-0400
TZOFFSETTO:-0500
DTSTART:20261101T060000
TZNAME:EST
END:STANDARD
BEGIN:DAYLIGHT
TZOFFSETFROM:-0500
TZOFFSETTO:-0400
DTSTART:20270314T070000
TZNAME:EDT
END:DAYLIGHT
END:VTIMEZONE
BEGIN:VEVENT
SUMMARY:LWV-SHR-Environment Committee
DESCRIPTION:This event repeats every month on the 1st Sunday.\n 	To requ
 est the meeting link\, please email shrleague@gmail.com. Please include 
 the meeting date and time in the email subject. Thank you!\n\nWe study e
 nvironmental issues affecting our local communities and take action base
 d on national\, state\, and local League positions. All members welcome.
 \n\n&nbsp\;
URL;VALUE=URI:https://lwvshr.us/sc_recurring_event/lwv-shr-environment-c
 ommittee/
UID:urn:uuid:771cb1de-8a63-41ae-a037-79b06922334d
STATUS:CONFIRMED
ORGANIZER:
DTSTAMP:20260420T195649Z
DTSTART;TZID=America/New_York:20270404T190000
DTEND;TZID=America/New_York:20270404T200000
RRULE:FREQ=MONTHLY;INTERVAL=1
END:VEVENT
END:VCALENDAR