BEGIN:VCALENDAR
METHOD:PUBLISH
VERSION:2.0
CALSCALE:GREGORIAN
PRODID:-//NONSGML WPForms//NONSGML Sugar Calendar Feeds v3.11.0//EN
X-WR-CALNAME:League Lite  (Virtual)
X-WR-CALDESC:League of Women Voters - South Hampton Roads
X-WR-TIMEZONE:UTC
BEGIN:VTIMEZONE
TZID:UTC
BEGIN:STANDARD
TZOFFSETFROM:+0000
TZOFFSETTO:+0000
DTSTART:20250731T070000
TZNAME:UTC
END:STANDARD
END:VTIMEZONE
BEGIN:VTIMEZONE
TZID:America/New_York
BEGIN:STANDARD
TZOFFSETFROM:-0400
TZOFFSETTO:-0500
DTSTART:20251102T060000
TZNAME:EST
END:STANDARD
END:VTIMEZONE
BEGIN:VEVENT
SUMMARY:League Lite  (Virtual)
DESCRIPTION:League Lite is an ongoing monthly virtual get together. At L
 eague Lite gatherings we hear from each participant &amp\; get to know t
 hem\, address upcoming items of local and/or national interest\, promote
  individual actions or commitments\, better understand the League &amp\;
  review upcoming events.\n\n\n\n\nDetails:\n1. Share our thoughts on the
  importance of preserving actual history as it is currently deing discre
 dited\, discouraged\, made illegal &amp\; actually eliminated from archi
 ves\, libraries\, schools\, institutions of higher learning &amp\; other
  repositories.\n2. Our intentional personal &amp\; communal plans to com
 memorate the MLK\, Jr. national holiday and February as Black History Mo
 nth\, especially if we have not done so in the past.\n3. Share a persona
 l interest\, question\, concern or general appreciation.\n4. Getting to 
 know each other.\n5. Better understanding the LWV-SHR.\n\n\n6. UpcomingÂ
  events.\n\n\n\n 	All members are welcome.\n\n 	The event organizer is O
 felia Wattley.\n 	To easily add this event to your personal calendar\, R
 .S.V.P. by clicking on the event title.\n 	To request the meeting link\,
  please email shrleague@gmail.com. (Please include the meeting date and 
 time in the email subject.)
URL;VALUE=URI:https://lwvshr.us/events/league-lite-virtual/
UID:urn:uuid:87f11916-e0f3-4909-8a19-6348b07ed3c2
STATUS:CONFIRMED
ORGANIZER:
DTSTAMP:20260420T182955Z
DTSTART;TZID=America/New_York:20260129T190000
DTEND;TZID=America/New_York:20260129T200000
END:VEVENT
END:VCALENDAR