BEGIN:VCALENDAR
METHOD:PUBLISH
VERSION:2.0
CALSCALE:GREGORIAN
PRODID:-//NONSGML WPForms//NONSGML Sugar Calendar Feeds v3.11.0//EN
X-WR-CALNAME:League Lite (Virtual)
X-WR-CALDESC:League of Women Voters - South Hampton Roads
X-WR-TIMEZONE:UTC
BEGIN:VTIMEZONE
TZID:UTC
BEGIN:STANDARD
TZOFFSETFROM:+0000
TZOFFSETTO:+0000
DTSTART:20250925T070000
TZNAME:UTC
END:STANDARD
END:VTIMEZONE
BEGIN:VTIMEZONE
TZID:America/New_York
BEGIN:STANDARD
TZOFFSETFROM:-0400
TZOFFSETTO:-0500
DTSTART:20251102T060000
TZNAME:EST
END:STANDARD
BEGIN:DAYLIGHT
TZOFFSETFROM:-0500
TZOFFSETTO:-0400
DTSTART:20260308T070000
TZNAME:EDT
END:DAYLIGHT
END:VTIMEZONE
BEGIN:VEVENT
SUMMARY:League Lite (Virtual)
DESCRIPTION:In March we are discussing the book Nickel and Dimed: On (No
 t) Getting by in America By Barbara Ehrenreich.  About thirty years ago
 \, Barbara Ehrenreich tried to live on minimum wage jobs and found it wa
 s soul and body killing. Has anything changed? Let’s discuss how pover
 ty is a women’s issue. To register\, please email shrleague@gmail.com\
 , including the meeting date and time in the subject field.
URL;VALUE=URI:https://lwvshr.us/events/league-lite-virtual-2/
UID:urn:uuid:451f056e-1128-49ef-b25e-7da611427ad5
STATUS:CONFIRMED
ORGANIZER:
DTSTAMP:20260420T203321Z
DTSTART;TZID=America/New_York:20260326T190000
DTEND;TZID=America/New_York:20260326T200000
END:VEVENT
END:VCALENDAR