BEGIN:VCALENDAR
METHOD:PUBLISH
VERSION:2.0
CALSCALE:GREGORIAN
PRODID:-//NONSGML WPForms//NONSGML Sugar Calendar Feeds v3.11.0//EN
X-WR-CALNAME:League Lite  (Online) Environmental Justice Discussion
X-WR-CALDESC:League of Women Voters - South Hampton Roads
X-WR-TIMEZONE:UTC
BEGIN:VTIMEZONE
TZID:UTC
BEGIN:STANDARD
TZOFFSETFROM:+0000
TZOFFSETTO:+0000
DTSTART:20251030T070000
TZNAME:UTC
END:STANDARD
END:VTIMEZONE
BEGIN:VTIMEZONE
TZID:America/New_York
BEGIN:STANDARD
TZOFFSETFROM:-0400
TZOFFSETTO:-0500
DTSTART:20251102T060000
TZNAME:EST
END:STANDARD
BEGIN:DAYLIGHT
TZOFFSETFROM:-0500
TZOFFSETTO:-0400
DTSTART:20260308T070000
TZNAME:EDT
END:DAYLIGHT
END:VTIMEZONE
BEGIN:VEVENT
SUMMARY:League Lite  (Online) Environmental Justice Discussion
DESCRIPTION:April is Earth Month! To celebrate we are hosting speakers a
 nd discussions based on National\, State\, and Local League environmenta
 l positions.  Join us as we discuss:\nWhat does Environmental Justice m
 ean for South Hampton Roads? How can we as a local League take action to
  make our corner of Virginia a safer and healthier environment for every
 one who lives here?\nOur state position is:\n“Support for environmenta
 l justice as a guiding principle for all branches of state government. 
  Support for an expansive view of environmental factors that impact qua
 lity of life now and in the future\, for meaningful community engagement
  from the beginning and throughout environmental decision-making\, and f
 or use of modern tools and changed practices to ensure that past environ
 mental injustices are not repeated but are mitigated.”\nTo register an
 d request link\, please email shrleague@gmail.com\, including the meetin
 g date and time in the subject field.\n\n&nbsp\;
URL;VALUE=URI:https://lwvshr.us/events/league-lite-online-2/
UID:urn:uuid:2d032ed4-ae7e-4287-a6d4-1deffcff624f
STATUS:CONFIRMED
ORGANIZER:
DTSTAMP:20260420T142455Z
DTSTART;TZID=America/New_York:20260430T190000
DTEND;TZID=America/New_York:20260430T200000
END:VEVENT
END:VCALENDAR