BEGIN:VCALENDAR
METHOD:PUBLISH
VERSION:2.0
CALSCALE:GREGORIAN
PRODID:-//NONSGML WPForms//NONSGML Sugar Calendar Feeds v3.11.0//EN
X-WR-CALNAME:International Women's Day Protest Safety Training
X-WR-CALDESC:League of Women Voters - South Hampton Roads
X-WR-TIMEZONE:UTC
BEGIN:VTIMEZONE
TZID:UTC
BEGIN:STANDARD
TZOFFSETFROM:+0000
TZOFFSETTO:+0000
DTSTART:20250903T080000
TZNAME:UTC
END:STANDARD
END:VTIMEZONE
BEGIN:VTIMEZONE
TZID:America/New_York
BEGIN:STANDARD
TZOFFSETFROM:-0400
TZOFFSETTO:-0500
DTSTART:20251102T060000
TZNAME:EST
END:STANDARD
END:VTIMEZONE
BEGIN:VEVENT
SUMMARY:International Women's Day Protest Safety Training
DESCRIPTION:&nbsp\;\nNot a LWVSHR event.\nHosted By:  Women's March\nGe
 t More Info &amp\; Sign Up:  Here\n\n\n\n\n&nbsp\;
URL;VALUE=URI:https://lwvshr.us/events/international-womens-day-protest-
 safety-training/
UID:urn:uuid:90d11df4-59cf-498f-9a87-f3e37782516e
STATUS:CONFIRMED
ORGANIZER:
DTSTAMP:20260422T105015Z
DTSTART;TZID=America/New_York:20260304T200000
DTEND;TZID=America/New_York:20260304T210000
END:VEVENT
END:VCALENDAR