BEGIN:VCALENDAR
METHOD:PUBLISH
VERSION:2.0
CALSCALE:GREGORIAN
PRODID:-//NONSGML WPForms//NONSGML Sugar Calendar Feeds v3.11.0//EN
X-WR-CALNAME:Hands on Ivy Removal
X-WR-CALDESC:League of Women Voters - South Hampton Roads
X-WR-TIMEZONE:UTC
BEGIN:VTIMEZONE
TZID:UTC
BEGIN:STANDARD
TZOFFSETFROM:+0000
TZOFFSETTO:+0000
DTSTART:20250913T000000
TZNAME:UTC
END:STANDARD
END:VTIMEZONE
BEGIN:VTIMEZONE
TZID:America/New_York
BEGIN:STANDARD
TZOFFSETFROM:-0400
TZOFFSETTO:-0500
DTSTART:20251102T060000
TZNAME:EST
END:STANDARD
BEGIN:DAYLIGHT
TZOFFSETFROM:-0500
TZOFFSETTO:-0400
DTSTART:20260308T070000
TZNAME:EDT
END:DAYLIGHT
END:VTIMEZONE
BEGIN:VEVENT
SUMMARY:Hands on Ivy Removal
DESCRIPTION:Preserving tree canopy is an important part of our local Lea
 gue’s position on Green space.  The LWVSHR environment committee invi
 tes members to join our partners at CCAN 757 Climate Action Team for a h
 ands-on ivy removal action to protect Norfolk’s trees. No experience n
 eeded—CCAN will provide training and tools!\n\n&#x1f4c5\; Saturday\, M
 arch 14th\n&#x23f0\; 12:00 - 4:00 PM\n&#x1f4cd\; Weyanoke Bird and Wildf
 lower Sanctuary\, 1509 Armistead Bridge Rd\, Norfolk\, VA 23507\n\nA few
  hours of your time = a huge impact for our local environment!\n\n&nbsp\
 ;\n\n&nbsp\;\n\n&nbsp\;
URL;VALUE=URI:https://lwvshr.us/events/hands-on-ivy-removal/
UID:urn:uuid:eecc4ff6-555e-4888-9453-62aebae9f257
STATUS:CONFIRMED
ORGANIZER:
DTSTAMP:20260420T220450Z
DTSTART;TZID=America/New_York:20260314T120000
DTEND;TZID=America/New_York:20260314T160000
LOCATION:1509 Armistead Bridge Rd\, 23507
END:VEVENT
END:VCALENDAR