BEGIN:VCALENDAR
METHOD:PUBLISH
VERSION:2.0
CALSCALE:GREGORIAN
PRODID:-//NONSGML WPForms//NONSGML Sugar Calendar Feeds v3.11.0//EN
X-WR-CALNAME:Hampton Roads Transit Launch
X-WR-CALDESC:League of Women Voters - South Hampton Roads
X-WR-TIMEZONE:UTC
BEGIN:VTIMEZONE
TZID:UTC
BEGIN:STANDARD
TZOFFSETFROM:+0000
TZOFFSETTO:+0000
DTSTART:20250713T220000
TZNAME:UTC
END:STANDARD
END:VTIMEZONE
BEGIN:VTIMEZONE
TZID:America/New_York
BEGIN:STANDARD
TZOFFSETFROM:-0400
TZOFFSETTO:-0500
DTSTART:20251102T060000
TZNAME:EST
END:STANDARD
END:VTIMEZONE
BEGIN:VEVENT
SUMMARY:Hampton Roads Transit Launch
DESCRIPTION:OnDemand Microtransit Service in Hampton and Chesapeake\n\nP
 lease join Hampton Roads Transit as they CELEBRATE THE LAUNCH OF the new
  MicroTransit system.\n\n 	In HAMPTON -  10AM at the PENINSULA TOWN CEN
 TER’S TOWN SQUARE located at 5051 KILGORE AVENUE HAMPTON\, VA 23666\n 
 	In CHESAPEAKE -  2PM at the CORNER OF BELAIRE AVENUE AND PINNACLE DRIV
 E AT SUMMIT POINTE CHESAPEAKE\, VA 2332\n\nKindly RSVP to rsvp@hrtransit
 .org and indicate if you will attend one or both of these events. Parkin
 g is available in the nearby public garages.
URL;VALUE=URI:https://lwvshr.us/events/hampton-roads-transit-launch/
UID:urn:uuid:e39a357a-d681-4297-8468-e3acbe081d0b
STATUS:CONFIRMED
ORGANIZER:
DTSTAMP:20260420T154426Z
DTSTART;TZID=America/New_York:20260112T100000
DTEND;TZID=America/New_York:20260112T110000
END:VEVENT
END:VCALENDAR