BEGIN:VCALENDAR
METHOD:PUBLISH
VERSION:2.0
CALSCALE:GREGORIAN
PRODID:-//NONSGML WPForms//NONSGML Sugar Calendar Feeds v3.11.0//EN
X-WR-CALNAME:General Meeting - Special Guest\, Liz White (Online)
X-WR-CALDESC:League of Women Voters - South Hampton Roads
X-WR-TIMEZONE:UTC
BEGIN:VTIMEZONE
TZID:UTC
BEGIN:STANDARD
TZOFFSETFROM:+0000
TZOFFSETTO:+0000
DTSTART:20250822T220000
TZNAME:UTC
END:STANDARD
END:VTIMEZONE
BEGIN:VTIMEZONE
TZID:America/New_York
BEGIN:STANDARD
TZOFFSETFROM:-0400
TZOFFSETTO:-0500
DTSTART:20251102T060000
TZNAME:EST
END:STANDARD
END:VTIMEZONE
BEGIN:VEVENT
SUMMARY:General Meeting - Special Guest\, Liz White (Online)
DESCRIPTION:There are two parts to this meeting:\nA. Presentation by Gue
 st Speaker -Liz White\, Upvote Virginia and\nB. Positions &amp\; Concurr
 ence - Sally Clarkson\n** Please RSVP.Â  You will also need the meeting 
 link. Email shrleague@gmail.com\, including the meeting date and time in
  the subject field **\n\n\n\nA. Guest Speaker -Liz White\, Upvote Virgin
 ia\n\n 	Liz White is the founding executive director of UpVote Virginia 
 and the former deputy director of OneVirginia 2021. UpVote Virginia's is
 sues include:\n*Â Ranked Choice Voting\,\n* Government Transparency\,\n*
  Civicâ€¨Engagement\, and\n* Redistricting.\n\nLiz helped grow Virginiaâ
 €™s redistricting reform movement\, including developing and leading the
  Presence at the Polls program\, which sends volunteers to polling place
 s during elections to educate voters about nonpartisan issues.\n\nB. Pro
 gram &amp\; Concurrence - Sally Clarkson\nThe Program Committee will rev
 iew our local and national positions and collect any member feedback to 
 share with LWV-US.\nConcurrence in the League of Women Voters (LWV) is a
  formal decision-making process where a League (local\, state\, or natio
 nal) agrees to adopt or update a position on an issue that was originall
 y developed and adopted by another League. It allows Leagues to leverage
  the research and study efforts of other Leagues without starting a new 
 study from scratch.
URL;VALUE=URI:https://lwvshr.us/events/general-meeting-special-guest-liz
 -white/
UID:urn:uuid:66727225-a86b-4ca3-ab48-13a52395ec46
STATUS:CONFIRMED
ORGANIZER:
DTSTAMP:20260420T212514Z
DTSTART;TZID=America/New_York:20260221T100000
DTEND;TZID=America/New_York:20260221T120000
END:VEVENT
END:VCALENDAR