BEGIN:VCALENDAR
METHOD:PUBLISH
VERSION:2.0
CALSCALE:GREGORIAN
PRODID:-//NONSGML WPForms//NONSGML Sugar Calendar Feeds v3.11.0//EN
X-WR-CALNAME:From LWVUS-Amplifying Our Impact: Supporting Student-Led Vo
 ter Registration Drives
X-WR-CALDESC:League of Women Voters - South Hampton Roads
X-WR-TIMEZONE:UTC
BEGIN:VTIMEZONE
TZID:UTC
BEGIN:STANDARD
TZOFFSETFROM:+0000
TZOFFSETTO:+0000
DTSTART:20250909T020000
TZNAME:UTC
END:STANDARD
END:VTIMEZONE
BEGIN:VTIMEZONE
TZID:America/New_York
BEGIN:STANDARD
TZOFFSETFROM:-0400
TZOFFSETTO:-0500
DTSTART:20251102T060000
TZNAME:EST
END:STANDARD
BEGIN:DAYLIGHT
TZOFFSETFROM:-0500
TZOFFSETTO:-0400
DTSTART:20260308T070000
TZNAME:EDT
END:DAYLIGHT
END:VTIMEZONE
BEGIN:VEVENT
SUMMARY:From LWVUS-Amplifying Our Impact: Supporting Student-Led Voter R
 egistration Drives
DESCRIPTION:Join LWVUS and our partners at The Civics Center and The Cen
 ter for Information and Research on Civic Learning and Engagement (CIRCL
 E) for a discussion on the importance of engaging young voters and how t
 o support student-led voter registration drives in high schools.
URL;VALUE=URI:https://lwvshr.us/events/from-lwvus-amplifying-our-impact-
 supporting-student-led-voter-registration-drives/
UID:urn:uuid:35c7200b-cec8-4c70-9903-c466d13e2f33
STATUS:CONFIRMED
ORGANIZER:
DTSTAMP:20260420T185632Z
DTSTART;TZID=America/New_York:20260310T140000
DTEND;TZID=America/New_York:20260310T150000
END:VEVENT
END:VCALENDAR