BEGIN:VCALENDAR
METHOD:PUBLISH
VERSION:2.0
CALSCALE:GREGORIAN
PRODID:-//NONSGML WPForms//NONSGML Sugar Calendar Feeds v3.11.0//EN
X-WR-CALNAME:Environment Committee (Zoom)
X-WR-CALDESC:League of Women Voters - South Hampton Roads
X-WR-TIMEZONE:UTC
BEGIN:VTIMEZONE
TZID:UTC
BEGIN:STANDARD
TZOFFSETFROM:+0000
TZOFFSETTO:+0000
DTSTART:20251005T070000
TZNAME:UTC
END:STANDARD
END:VTIMEZONE
BEGIN:VTIMEZONE
TZID:America/New_York
BEGIN:STANDARD
TZOFFSETFROM:-0400
TZOFFSETTO:-0500
DTSTART:20251102T060000
TZNAME:EST
END:STANDARD
BEGIN:DAYLIGHT
TZOFFSETFROM:-0500
TZOFFSETTO:-0400
DTSTART:20260308T070000
TZNAME:EDT
END:DAYLIGHT
END:VTIMEZONE
BEGIN:VEVENT
SUMMARY:Environment Committee (Zoom)
DESCRIPTION:We study environmental issues affecting our local communitie
 s and take action based on national\, state\, and local League positions
 .  All members are welcome. To register\, please email shrleague@gmail.
 com including the meeting date and time in the subject field.
URL;VALUE=URI:https://lwvshr.us/events/environment-committee-zoom/
UID:urn:uuid:d1791eb0-31e1-4cff-88ec-74925ddffe6b
STATUS:CONFIRMED
ORGANIZER:
DTSTAMP:20260420T173202Z
DTSTART;TZID=America/New_York:20260405T190000
DTEND;TZID=America/New_York:20260405T200000
END:VEVENT
END:VCALENDAR