BEGIN:VCALENDAR
METHOD:PUBLISH
VERSION:2.0
CALSCALE:GREGORIAN
PRODID:-//NONSGML WPForms//NONSGML Sugar Calendar Feeds v3.11.0//EN
X-WR-CALNAME:Bystander Intervention to Support the Immigrant Community (
 Online)
X-WR-CALDESC:League of Women Voters - South Hampton Roads
X-WR-TIMEZONE:UTC
BEGIN:VTIMEZONE
TZID:UTC
BEGIN:STANDARD
TZOFFSETFROM:+0000
TZOFFSETTO:+0000
DTSTART:20250828T030000
TZNAME:UTC
END:STANDARD
END:VTIMEZONE
BEGIN:VTIMEZONE
TZID:America/New_York
BEGIN:STANDARD
TZOFFSETFROM:-0400
TZOFFSETTO:-0500
DTSTART:20251102T060000
TZNAME:EST
END:STANDARD
END:VTIMEZONE
BEGIN:VEVENT
SUMMARY:Bystander Intervention to Support the Immigrant Community (Onlin
 e)
DESCRIPTION:** Not a LWVSHR partner/event. **\nHosted By:  Right to Be 
 Organization\nGet More Info &amp\; Sign Up:  Bystander Intervention\n\n
 \n\n\n\n\n\n\n\n 	Right To Be’s Bystander Intervention to Support Immi
 grant Communities Training equips participants with the tools to safely 
 and effectively intervene when they witness anti-immigrant hate\, harass
 ment\, or discrimination.
URL;VALUE=URI:https://lwvshr.us/events/bystander-intervention-to-support
 -the-immigrant-community/
UID:urn:uuid:de4cecda-fe89-44d7-af38-c69cb414b7ca
STATUS:CONFIRMED
ORGANIZER:
DTSTAMP:20260420T171706Z
DTSTART;TZID=America/New_York:20260226T150000
DTEND;TZID=America/New_York:20260226T160000
END:VEVENT
END:VCALENDAR