BEGIN:VCALENDAR
METHOD:PUBLISH
VERSION:2.0
CALSCALE:GREGORIAN
PRODID:-//NONSGML WPForms//NONSGML Sugar Calendar Feeds v3.11.0//EN
X-WR-CALNAME:Breakfast Unit-In Person
X-WR-CALDESC:League of Women Voters - South Hampton Roads
X-WR-TIMEZONE:UTC
BEGIN:VTIMEZONE
TZID:UTC
BEGIN:STANDARD
TZOFFSETFROM:+0000
TZOFFSETTO:+0000
DTSTART:20250916T210000
TZNAME:UTC
END:STANDARD
END:VTIMEZONE
BEGIN:VTIMEZONE
TZID:America/New_York
BEGIN:STANDARD
TZOFFSETFROM:-0400
TZOFFSETTO:-0500
DTSTART:20251102T060000
TZNAME:EST
END:STANDARD
BEGIN:DAYLIGHT
TZOFFSETFROM:-0500
TZOFFSETTO:-0400
DTSTART:20260308T070000
TZNAME:EDT
END:DAYLIGHT
END:VTIMEZONE
BEGIN:VEVENT
SUMMARY:Breakfast Unit-In Person
DESCRIPTION:In March we are discussing the book Nickel and Dimed: On (No
 t) Getting by in America By Barbara Ehrenreich About thirty years ago\, 
 Barbara Ehrenreich tried to live on minimum wage jobs and found it was s
 oul and body killing. Has anything changed? Let's discuss how poverty is
  a women's issue. To register\, please RSVP below.
URL;VALUE=URI:https://lwvshr.us/events/breakfast-unit/
UID:urn:uuid:2a33d7a3-e61b-498d-9e88-11ead93af601
STATUS:CONFIRMED
ORGANIZER:
DTSTAMP:20260421T011549Z
DTSTART;TZID=America/New_York:20260318T090000
DTEND;TZID=America/New_York:20260318T103000
LOCATION:9647 First View ST
END:VEVENT
END:VCALENDAR