BEGIN:VCALENDAR
METHOD:PUBLISH
VERSION:2.0
CALSCALE:GREGORIAN
PRODID:-//NONSGML WPForms//NONSGML Sugar Calendar Feeds v3.11.0//EN
X-WR-CALNAME:Breakfast Unit - In Person
X-WR-CALDESC:League of Women Voters - South Hampton Roads
X-WR-TIMEZONE:UTC
BEGIN:VTIMEZONE
TZID:UTC
BEGIN:STANDARD
TZOFFSETFROM:+0000
TZOFFSETTO:+0000
DTSTART:20250722T210000
TZNAME:UTC
END:STANDARD
END:VTIMEZONE
BEGIN:VTIMEZONE
TZID:America/New_York
BEGIN:STANDARD
TZOFFSETFROM:-0400
TZOFFSETTO:-0500
DTSTART:20251102T060000
TZNAME:EST
END:STANDARD
END:VTIMEZONE
BEGIN:VEVENT
SUMMARY:Breakfast Unit - In Person
DESCRIPTION:We will be sharing the bills and issues we are following in 
 the General Assembly.\n 	Want to learn how to track bills before the mee
 ting? Check this out\n 	All members are welcome.\n\n 	To easily add this
  event to your personal calendar\, R.S.V.P. by clicking on the event tit
 le.\n 	Please also email the group organizer Amy Schock at amyschock13@g
 mail.com 
URL;VALUE=URI:https://lwvshr.us/events/breakfast-unit-in-person/
UID:urn:uuid:26651522-5379-4f3c-9a25-67421166b1cb
STATUS:CONFIRMED
ORGANIZER:
DTSTAMP:20260420T195644Z
DTSTART;TZID=America/New_York:20260121T090000
DTEND;TZID=America/New_York:20260121T103000
END:VEVENT
END:VCALENDAR