BEGIN:VCALENDAR
METHOD:PUBLISH
VERSION:2.0
CALSCALE:GREGORIAN
PRODID:-//NONSGML WPForms//NONSGML Sugar Calendar Feeds v3.11.0//EN
X-WR-CALNAME:League Learning (Virtual)
X-WR-CALDESC:League of Women Voters - South Hampton Roads
X-WR-TIMEZONE:UTC
BEGIN:VTIMEZONE
TZID:UTC
BEGIN:STANDARD
TZOFFSETFROM:+0000
TZOFFSETTO:+0000
DTSTART:20250718T220000
TZNAME:UTC
END:STANDARD
END:VTIMEZONE
BEGIN:VTIMEZONE
TZID:America/New_York
BEGIN:STANDARD
TZOFFSETFROM:-0400
TZOFFSETTO:-0500
DTSTART:20251102T060000
TZNAME:EST
END:STANDARD
END:VTIMEZONE
BEGIN:VEVENT
SUMMARY:League Learning (Virtual)
DESCRIPTION:Even if you can’t travel to Richmond\, you can still be a 
 powerful advocate!\n 	Learn how online.\n 	All members are welcome.\n\n 
 	To easily add this event to your personal calendar\, R.S.V.P. by clicki
 ng on the event title.\n 	To request the meeting link\, please email shr
 league@gmail.com. (Please include the meeting date and time in the email
  subject.)
URL;VALUE=URI:https://lwvshr.us/events/advocacy-league-learning-virtual/
UID:urn:uuid:77cbbcfb-569e-449d-a74b-2530ff8e42e7
STATUS:CONFIRMED
ORGANIZER:
DTSTAMP:20260421T030357Z
DTSTART;TZID=America/New_York:20260117T100000
DTEND;TZID=America/New_York:20260117T110000
END:VEVENT
END:VCALENDAR