BEGIN:VCALENDAR
METHOD:PUBLISH
VERSION:2.0
CALSCALE:GREGORIAN
PRODID:-//NONSGML WPForms//NONSGML Sugar Calendar Feeds v3.11.0//EN
X-WR-CALNAME:2026 General Assembly Legislative Preview & Lobbying 101 - 
 Virginia Interfaith Power & Light
X-WR-CALDESC:League of Women Voters - South Hampton Roads
X-WR-TIMEZONE:UTC
BEGIN:VTIMEZONE
TZID:UTC
BEGIN:STANDARD
TZOFFSETFROM:+0000
TZOFFSETTO:+0000
DTSTART:20250708T060000
TZNAME:UTC
END:STANDARD
END:VTIMEZONE
BEGIN:VTIMEZONE
TZID:America/New_York
BEGIN:STANDARD
TZOFFSETFROM:-0400
TZOFFSETTO:-0500
DTSTART:20251102T060000
TZNAME:EST
END:STANDARD
END:VTIMEZONE
BEGIN:VEVENT
SUMMARY:2026 General Assembly Legislative Preview & Lobbying 101 - Virgi
 nia Interfaith Power & Light
DESCRIPTION:As VAIPL gears up for the 2026 General Assembly Legislative 
 Session\, join us for an informative legislative preview and lobbying 10
 1 training. We'll go over some of the upcoming environmental justice leg
 islation being introduced this session and how to engage with your legis
 lators. This is a great introductory workshop for those who are new to G
 eneral Assembly advocacy or need a refresher.
URL;VALUE=URI:https://lwvshr.us/events/2026-general-assembly-legislative
 -preview-lobbying-101-virginia-power-light/
UID:urn:uuid:5626763f-75f5-4b53-a33f-2596e565a3b4
STATUS:CONFIRMED
ORGANIZER:
DTSTAMP:20260421T042837Z
DTSTART;TZID=America/New_York:20260106T180000
DTEND;TZID=America/New_York:20260106T190000
END:VEVENT
END:VCALENDAR